BEGIN:VCALENDAR
VERSION:2.0
PRODID:-//112.109.81.136//NONSGML kigkonsult.se iCalcreator 2.20//
CALSCALE:GREGORIAN
METHOD:PUBLISH
X-WR-CALNAME:Kovido Maddick
X-WR-CALDESC:Mindfulness\, therapy &amp\; facilitation in Dunedin
X-FROM-URL:http://mindfulnessdunedin.co.nz
X-WR-TIMEZONE:Pacific/Auckland
BEGIN:VTIMEZONE
TZID:Pacific/Auckland
X-LIC-LOCATION:Pacific/Auckland
BEGIN:STANDARD
DTSTART:20180401T030000
TZOFFSETFROM:+1300
TZOFFSETTO:+1200
TZNAME:NZST
END:STANDARD
BEGIN:DAYLIGHT
DTSTART:20170924T020000
TZOFFSETFROM:+1200
TZOFFSETTO:+1300
TZNAME:NZDT
END:DAYLIGHT
END:VTIMEZONE
BEGIN:VEVENT
UID:ai1ec-1072@kovidomaddick.co.nz
DTSTAMP:20180122T151517Z
CATEGORIES;LANGUAGE=en-US:kovido
CONTACT:Kovido\; kovido@kovidomaddick.co.nz\; kvodiomaddick.co.nz
DESCRIPTION:<p>A two day residential workshop with Kate Bendall and Kovido 
 Maddick</p>\n<p>10.30 am Saturday 8th- 4.30 pm Sunday 9th April 2017</p>\n
 <p>Burns Lodge\, 89 Church Road \, Mosgiel\, Dunedin.</p>\n<p>It will be a
  mixture of Mindulness\, Yoga\, Movement and Relaxation. Some parts of it 
 will be in silence and others will include discussions. We will be using t
 he tools of classical yoga to gain access to the deeper aspects of the min
 d\, since it is from this place that we can connect with the light in our 
 hearts and move from suffering towards joy.</p>\n<p>We will use simple pos
 tures and movements combined with the breath during sessions. No body is t
 oo old/ stiff/ unfit. We will also use sound and experience the deep heali
 ng effect sacred sounds can have when placed in a Yoga practice.</p>\n<p>W
 e really want you to trust your intuition of what you need\, so you are we
 lcome to join in whatever you want to and leave the rest . Alternatively y
 ou can sit drinking tea\, go for a walk or have a rest.</p>\n<p>Workshop O
 utline</p>\n<p>Saturday April 8th:</p>\n<ul>\n<li>10.30 am: Intro and Welc
 ome</li>\n<li>11.30 am: Mindfulness</li>\n<li>12.00 pm: Yoga</li>\n<li>1.0
 0 pm: Lunch</li>\n<li>We get some rest.</li>\n<li>3.00 pm: Walking\, Medit
 ation and Discussion</li>\n<li>4.00 pm: Yoga</li>\n<li>5.00 pm: Meditation
 </li>\n<li>6.00 pm: Dinner</li>\n<li>7.30 pm: Movement\, Meditation and en
 ding the day</li>\n</ul>\n<p>Sunday April 9th:</p>\n<ul>\n<li>7.30 am: Med
 itation/Yoga optional</li>\n<li>8.30 am: Breakfast</li>\n<li>9.30 am: Chec
 k in Mindfulness</li>\n<li>10.30 am: Yoga</li>\n<li>12.00 pm: Lunch</li>\n
 <li>2.00 pm: Meditation/Movement</li>\n<li>3.30 pm: Sharing</li>\n<li>4.30
  pm: Go Home</li>\n</ul>\n<p>Workshop Upgrades</p>\n<p>To arrange transfer
 s\, upgrade to double or ensuite\, extra nights or any dietary restriction
 s please contact the Burns Lodge Manager.<br />\nClinton Chambers<br />\nP
 hone: 0800 489 2600<br />\nEmail: clinton@burnslodge.nz</p>\n<p>Venue</p>
 \n<p>This two day retreat will be held at Burns Lodge\,the historic former
  Holy Cross Seminary in Mosgiel. (see <a href='http://www.burnslodge.nz/'>
 http://www.burnslodge.nz</a>)</p>\n<p>It is possible to stay Friday and/or
  Sunday night at an $65 extra per night including breakfast.</p>\n<p>Airpo
 rt transfers\, only 15 minutes\, from Dunedin Airport at $20 per head.</p>
 \n<p>Direct flights available from Auckland\, Wellington\, Christchurch\, 
 Queenstown.</p>\n<p><strong>Organiser details</strong></p>\n<p>Kate Bendal
 l</p>\n<p>Kate Bendall is an experienced Yoga teacher who has been practic
 ing for 30 years and teaching for 15 years. She teaches classical yoga tau
 ght in the lineage of Sri Krishnamacharya which emphasises the transformat
 ional aspect of Yoga enjoys guiding people towards a deep yoga practice ba
 sed on their  own inner guru\, the breath</p>\n<p>Kovido Maddick</p>\n<p>Y
 ou can read more about Kovido <a href='http://mindfulnessdunedin.co.nz/'>h
 ere</a>.</p>\n<div class='sharedaddy sd-sharing-enabled'><div class='robot
 s-nocontent sd-block sd-social sd-social-icon sd-sharing'><h3 class='sd-ti
 tle'>Share this:</h3><div class='sd-content'><ul><li class='share-print'><
 a rel='nofollow' data-shared='' class='share-print sd-button share-icon no
 -text' href='http://mindfulnessdunedin.co.nz/#print' target='_blank' title
 ='Click to print'><span></span><span class='sharing-screen-reader-text'>Cl
 ick to print (Opens in new window)</span></a></li><li class='share-faceboo
 k'><a rel='nofollow' data-shared='sharing-facebook-1697' class='share-face
 book sd-button share-icon no-text' href='http://mindfulnessdunedin.co.nz/?
 share=facebook' target='_blank' title='Click to share on Facebook'><span><
 /span><span class='sharing-screen-reader-text'>Click to share on Facebook 
 (Opens in new window)</span></a></li><li class='share-linkedin'><a rel='no
 follow' data-shared='sharing-linkedin-1697' class='share-linkedin sd-butto
 n share-icon no-text' href='http://mindfulnessdunedin.co.nz/?share=linkedi
 n' target='_blank' title='Click to share on LinkedIn'><span></span><span c
 lass='sharing-screen-reader-text'>Click to share on LinkedIn (Opens in new
  window)</span></a></li><li class='share-twitter'><a rel='nofollow' data-s
 hared='sharing-twitter-1697' class='share-twitter sd-button share-icon no-
 text' href='http://mindfulnessdunedin.co.nz/?share=twitter' target='_blank
 ' title='Click to share on Twitter'><span></span><span class='sharing-scre
 en-reader-text'>Click to share on Twitter (Opens in new window)</span></a>
 </li><li class='share-google-plus-1'><a rel='nofollow' data-shared='sharin
 g-google-1697' class='share-google-plus-1 sd-button share-icon no-text' hr
 ef='http://mindfulnessdunedin.co.nz/?share=google-plus-1' target='_blank' 
 title='Click to share on Google+'><span></span><span class='sharing-screen
 -reader-text'>Click to share on Google+ (Opens in new window)</span></a></
 li><li class='share-pocket'><a rel='nofollow' data-shared='' class='share-
 pocket sd-button share-icon no-text' href='http://mindfulnessdunedin.co.nz
 /?share=pocket' target='_blank' title='Click to share on Pocket'><span></s
 pan><span class='sharing-screen-reader-text'>Click to share on Pocket (Ope
 ns in new window)</span></a></li><li class='share-end'></li></ul></div></d
 iv></div><p>Tickets: <a class='ai1ec-ticket-url-exported' href='https://ww
 w.eventbrite.co.nz/e/yoga-and-mindfulness-retreat-tickets-31592733717'>htt
 ps://www.eventbrite.co.nz/e/yoga-and-mindfulness-retreat-tickets-315927337
 17</a>.</p>
DTSTART;TZID=Pacific/Auckland:20170520T103000
DTEND;TZID=Pacific/Auckland:20170521T163000
GEO:-45.881987;+170.354937
LOCATION:Burns Lodge @ 89 Church St\, Entry via\, Laing St\, Mosgiel 9024\,
  New Zealand
SEQUENCE:0
SUMMARY:Yoga and Mindfulness Retreat Apr 2017
URL:http://mindfulnessdunedin.co.nz/event/yoga-and-mindfulness-retreat-apr-
 2017/
X-COST-TYPE:external
X-TAGS;LANGUAGE=en-US:retreat\,weekend\,workshop\,yoga
X-COST:$295-$395
X-TICKETS-URL:https://www.eventbrite.co.nz/e/yoga-and-mindfulness-retreat-t
 ickets-31592733717
END:VEVENT
END:VCALENDAR
